BEGIN:VCALENDAR
VERSION:2.0
PRODID:-//Astoria Co+op - ECPv6.15.18//NONSGML v1.0//EN
CALSCALE:GREGORIAN
METHOD:PUBLISH
X-WR-CALNAME:Astoria Co+op
X-ORIGINAL-URL:https://astoria.coop
X-WR-CALDESC:Events for Astoria Co+op
REFRESH-INTERVAL;VALUE=DURATION:PT1H
X-Robots-Tag:noindex
X-PUBLISHED-TTL:PT1H
BEGIN:VTIMEZONE
TZID:America/Los_Angeles
BEGIN:DAYLIGHT
TZOFFSETFROM:-0800
TZOFFSETTO:-0700
TZNAME:PDT
DTSTART:20250309T100000
END:DAYLIGHT
BEGIN:STANDARD
TZOFFSETFROM:-0700
TZOFFSETTO:-0800
TZNAME:PST
DTSTART:20251102T090000
END:STANDARD
BEGIN:DAYLIGHT
TZOFFSETFROM:-0800
TZOFFSETTO:-0700
TZNAME:PDT
DTSTART:20260308T100000
END:DAYLIGHT
BEGIN:STANDARD
TZOFFSETFROM:-0700
TZOFFSETTO:-0800
TZNAME:PST
DTSTART:20261101T090000
END:STANDARD
BEGIN:DAYLIGHT
TZOFFSETFROM:-0800
TZOFFSETTO:-0700
TZNAME:PDT
DTSTART:20270314T100000
END:DAYLIGHT
BEGIN:STANDARD
TZOFFSETFROM:-0700
TZOFFSETTO:-0800
TZNAME:PST
DTSTART:20271107T090000
END:STANDARD
END:VTIMEZONE
BEGIN:VEVENT
DTSTART;TZID=America/Los_Angeles:20260422T140000
DTEND;TZID=America/Los_Angeles:20260422T150000
DTSTAMP:20260422T045754
CREATED:20260408T000333Z
LAST-MODIFIED:20260408T000402Z
UID:20010-1776866400-1776870000@astoria.coop
SUMMARY:Earth Day Talk 2026
DESCRIPTION:Save the date for an Earth Day talk and native plant popup at your co-op! At 2 p.m. April 22\, Becky Graham of Harvest Moon Design and Ryan Kennedy of ReWild Native Plant Nursery plan to talk about pollinator corridors and how people can participate in their own yards and neighborhoods. Kennedy plans
URL:https://astoria.coop/event/earth-day-talk-2026/
LOCATION:Astoria Co+op\, 2350 Marine Drive\, Astoria\, OR\, 97103\, United States
CATEGORIES:community
ATTACH;FMTTYPE=image/jpeg:https://astoria.coop/wp-content/uploads/2026/04/pollinator-corridor-class-sign-2026.jpg
END:VEVENT
END:VCALENDAR